BEGIN:VCALENDAR
VERSION:2.0
PRODID:-//Anna Ruiz - ECPv6.15.20//NONSGML v1.0//EN
CALSCALE:GREGORIAN
METHOD:PUBLISH
X-WR-CALNAME:Anna Ruiz
X-ORIGINAL-URL:https://annaruiz.com.mx/arw
X-WR-CALDESC:Eventos para Anna Ruiz
REFRESH-INTERVAL;VALUE=DURATION:PT1H
X-Robots-Tag:noindex
X-PUBLISHED-TTL:PT1H
BEGIN:VTIMEZONE
TZID:America/Mexico_City
BEGIN:STANDARD
TZOFFSETFROM:-0600
TZOFFSETTO:-0600
TZNAME:CST
DTSTART:20230101T000000
END:STANDARD
END:VTIMEZONE
BEGIN:VEVENT
DTSTART;TZID=America/Mexico_City:20240214T183000
DTEND;TZID=America/Mexico_City:20240214T213000
DTSTAMP:20260424T023353
CREATED:20240207T144426Z
LAST-MODIFIED:20240214T223520Z
UID:24717-1707935400-1707946200@annaruiz.com.mx
SUMMARY:Experiencia San Valentín Con Chef Pepe en Anna Ruíz Store
DESCRIPTION:Experiencia San Valentín Con Chef Pepe\, este miércoles 14 de febrero 2024 de 6:30  a 9:30 pm en el mejor lugar.\n\n\n¡Experiencia San Valentín Con Chef Pepe en Anna Ruíz Store! \n¡Celebra el Día de San Valentín de una manera única y deliciosa en Anna Ruíz Store! Únete a nosotros el miércoles 14 de febrero de 2024 a las 18:30 en nuestra tienda ubicada en un lugar encantador. \nDisfruta de una experiencia culinaria excepcional con el renombrado Chef Pepe\, quien te guiará a través de una clase demo de cocina especial para parejas.  \nSumérgete en el ambiente acogedor de Anna Ruíz Store\, donde encontrarás ingredientes frescos y de alta calidad para utilizar en tus creaciones culinarias. Nuestro equipo estará encantado de brindarte atención personalizada y resolver todas tus dudas. \nNo te pierdas esta oportunidad única de disfrutar de una velada inolvidable en Anna Ruíz Store. ¡Inscríbete ahora y asegura tu lugar en esta experiencia gastronómica especial de San Valentín! \n \n\nPizzas\, \nensalada\npasta\nVino
URL:https://annaruiz.com.mx/arw/event/experiencia-san-valentin-con-chef-pepe-en-anna-ruiz-store/
LOCATION:Anna Ruíz Store\, Adolfo Prieto 1439 - 1\, Col Del Valle Centro\, Adentro del estacionamiento del Hiperlumen Del Valle\, México\, CMX\, 03100\, Mexico
ATTACH;FMTTYPE=image/jpeg:https://annaruiz.com.mx/arw/wp-content/uploads/2024/02/9ba84eedc30bee723432b0ac928d1079.jpg
END:VEVENT
END:VCALENDAR